BEGIN:VCALENDAR
VERSION:2.0
PRODID:-//Mortgage Bankers Association of Hawaii - ECPv6.15.20//NONSGML v1.0//EN
CALSCALE:GREGORIAN
METHOD:PUBLISH
X-ORIGINAL-URL:https://mbahawaii.org
X-WR-CALDESC:Events for Mortgage Bankers Association of Hawaii
REFRESH-INTERVAL;VALUE=DURATION:PT1H
X-Robots-Tag:noindex
X-PUBLISHED-TTL:PT1H
BEGIN:VTIMEZONE
TZID:UTC
BEGIN:STANDARD
TZOFFSETFROM:+0000
TZOFFSETTO:+0000
TZNAME:UTC
DTSTART:20250101T000000
END:STANDARD
END:VTIMEZONE
BEGIN:VEVENT
DTSTART;TZID=UTC:20260617T090000
DTEND;TZID=UTC:20260618T170000
DTSTAMP:20260420T112413
CREATED:20260403T170248Z
LAST-MODIFIED:20260403T170248Z
UID:981-1781686800-1781802000@mbahawaii.org
SUMMARY:2026 MBAHawaii Annual Conference
DESCRIPTION:https://app.glueup.com/event/2026-mbahawaii-annual-conference-174781/
URL:https://mbahawaii.org/event/2026-mbahawaii-annual-conference/
CATEGORIES:Future Events
ATTACH;FMTTYPE=image/png:https://mbahawaii.org/wp-content/uploads/2026/04/MBAH-2026-3.png
END:VEVENT
END:VCALENDAR