BEGIN:VCALENDAR
VERSION:2.0
PRODID:-//Mortgage Bankers Association of Hawaii - ECPv6.15.20//NONSGML v1.0//EN
CALSCALE:GREGORIAN
METHOD:PUBLISH
X-ORIGINAL-URL:https://mbahawaii.org
X-WR-CALDESC:Events for Mortgage Bankers Association of Hawaii
REFRESH-INTERVAL;VALUE=DURATION:PT1H
X-Robots-Tag:noindex
X-PUBLISHED-TTL:PT1H
BEGIN:VTIMEZONE
TZID:UTC
BEGIN:STANDARD
TZOFFSETFROM:+0000
TZOFFSETTO:+0000
TZNAME:UTC
DTSTART:20250101T000000
END:STANDARD
END:VTIMEZONE
BEGIN:VEVENT
DTSTART;TZID=UTC:20260427T163000
DTEND;TZID=UTC:20260427T193000
DTSTAMP:20260420T044326
CREATED:20260403T170553Z
LAST-MODIFIED:20260403T171214Z
UID:993-1777307400-1777318200@mbahawaii.org
SUMMARY:MBAH presents PICKLEBALL SOCIAL at Honolulu’s newest indoor facility!
DESCRIPTION:
URL:https://mbahawaii.org/event/mbah-presents-pickleball-social-at-honolulus-newest-indoor-facility/
CATEGORIES:Future Events
ATTACH;FMTTYPE=image/png:https://mbahawaii.org/wp-content/uploads/2026/04/MBAH-pickleball-invite-4.263.png
END:VEVENT
END:VCALENDAR